BEGIN:VCALENDAR
METHOD:PUBLISH
VERSION:2.0
PRODID:-//Forsyth County Georgia - Meetings//EN
BEGIN:VEVENT
ORGANIZER:forsythpr@forsythco.com
DTSTAMP:20260408T120637Z
ORGANIZER:ForsythCounty:MAILTO:forsythpr@forsythco.com
DTSTART:20260421T223000Z
UID:meeting5145@forsythco.com
DURATION:PT1H0M0S
LOCATION:110 E. Main Street Cumming, GA 30040
SUMMARY:Planning Commission - Work Session 6:30 PM
END:VEVENT
BEGIN:VEVENT
ORGANIZER:forsythpr@forsythco.com
DTSTAMP:20260420T195520Z
ORGANIZER:ForsythCounty:MAILTO:forsythpr@forsythco.com
DTSTART:20260422T140000Z
UID:meeting5158@forsythco.com
DURATION:PT1H0M0S
LOCATION:110 E. Main Street Cumming, GA 30040
SUMMARY:Board of Commissioners - Special Called Meeting 10:00 AM
END:VEVENT
BEGIN:VEVENT
ORGANIZER:forsythpr@forsythco.com
DTSTAMP:20260403T134059Z
ORGANIZER:ForsythCounty:MAILTO:forsythpr@forsythco.com
DTSTART:20260428T180000Z
UID:meeting5141@forsythco.com
DURATION:PT1H0M0S
LOCATION:110 E. Main Street Cumming, GA 30040
SUMMARY:Board of Commissioners - Work Session 2:00 PM
END:VEVENT
BEGIN:VEVENT
ORGANIZER:forsythpr@forsythco.com
DTSTAMP:20260403T170951Z
ORGANIZER:ForsythCounty:MAILTO:forsythpr@forsythco.com
DTSTART:20260428T193000Z
UID:meeting5144@forsythco.com
DURATION:PT1H0M0S
LOCATION:110 E. Main Street Cumming, GA 30040
SUMMARY:Board of Commissioners - Special Called Public Hearing 3:30 PM
END:VEVENT
BEGIN:VEVENT
ORGANIZER:forsythpr@forsythco.com
DTSTAMP:20260414T115856Z
ORGANIZER:ForsythCounty:MAILTO:forsythpr@forsythco.com
DTSTART:20260428T223000Z
UID:meeting5153@forsythco.com
DURATION:PT1H0M0S
LOCATION:110 E. Main Street Cumming, GA 30040
SUMMARY:Planning Commission - Regular Meeting/Public Hearings 6:30 PM
END:VEVENT
BEGIN:VEVENT
ORGANIZER:forsythpr@forsythco.com
DTSTAMP:20260416T183045Z
ORGANIZER:ForsythCounty:MAILTO:forsythpr@forsythco.com
DTSTART:20260430T220000Z
UID:meeting5156@forsythco.com
DURATION:PT1H0M0S
LOCATION:2435 Freedom Parkway Cumming, GA 30040
SUMMARY:Animal Control Board - Called Meeting 6:00 PM
END:VEVENT
BEGIN:VEVENT
ORGANIZER:forsythpr@forsythco.com
DTSTAMP:20260413T141850Z
ORGANIZER:ForsythCounty:MAILTO:forsythpr@forsythco.com
DTSTART:20260505T223000Z
UID:meeting5150@forsythco.com
DURATION:PT1H0M0S
LOCATION:110 E. Main Street Cumming, GA 30040
SUMMARY:Zoning Board of Appeals - Work Session 6:30 PM
END:VEVENT
BEGIN:VEVENT
ORGANIZER:forsythpr@forsythco.com
DTSTAMP:20260413T141910Z
ORGANIZER:ForsythCounty:MAILTO:forsythpr@forsythco.com
DTSTART:20260505T230000Z
UID:meeting5151@forsythco.com
DURATION:PT1H0M0S
LOCATION:110 E. Main Street Cumming, GA 30040
SUMMARY:Zoning Board of Appeals - Regular Meeting/Public Hearings 7:00 PM
END:VEVENT
BEGIN:VEVENT
ORGANIZER:forsythpr@forsythco.com
DTSTAMP:20260414T144120Z
ORGANIZER:ForsythCounty:MAILTO:forsythpr@forsythco.com
DTSTART:20260507T210000Z
UID:meeting5154@forsythco.com
DURATION:PT1H0M0S
LOCATION:110 E. Main Street Cumming, GA 30040
SUMMARY:Board of Commissioners - Regular Meeting/Public Hearings 5:00 PM
END:VEVENT
BEGIN:VEVENT
ORGANIZER:forsythpr@forsythco.com
DTSTAMP:20260414T150327Z
ORGANIZER:ForsythCounty:MAILTO:forsythpr@forsythco.com
DTSTART:20260512T180000Z
UID:meeting5155@forsythco.com
DURATION:PT1H0M0S
LOCATION:110 E. Main Street Cumming, GA 30040
SUMMARY:Board of Commissioners - Work Session 2:00 PM
END:VEVENT
BEGIN:VEVENT
ORGANIZER:forsythpr@forsythco.com
DTSTAMP:20260211T154231Z
ORGANIZER:ForsythCounty:MAILTO:forsythpr@forsythco.com
DTSTART:20260514T140000Z
UID:meeting5108@forsythco.com
DURATION:PT1H0M0S
LOCATION:875 Lanier 400 Parkway Cumming, GA 30040
SUMMARY:Civil Service Board - Regular Meeting 10:00 AM
END:VEVENT
BEGIN:VEVENT
ORGANIZER:forsythpr@forsythco.com
DTSTAMP:20260409T200529Z
ORGANIZER:ForsythCounty:MAILTO:forsythpr@forsythco.com
DTSTART:20260519T230000Z
UID:meeting5147@forsythco.com
DURATION:PT1H0M0S
LOCATION:1201 Sawnee Drive Cumming, GA 30040
SUMMARY:Board of Voter Registrations & Elections - Special Called Meeting 7:00 PM
END:VEVENT
BEGIN:VEVENT
ORGANIZER:forsythpr@forsythco.com
DTSTAMP:20260416T194516Z
ORGANIZER:ForsythCounty:MAILTO:forsythpr@forsythco.com
DTSTART:20260521T210000Z
UID:meeting5157@forsythco.com
DURATION:PT1H0M0S
LOCATION:110 E. Main Street Cumming, GA 30040
SUMMARY:Board of Commissioners - Regular Meeting/Public Hearings 5:00 PM
END:VEVENT
BEGIN:VEVENT
ORGANIZER:forsythpr@forsythco.com
DTSTAMP:20260409T200559Z
ORGANIZER:ForsythCounty:MAILTO:forsythpr@forsythco.com
DTSTART:20260522T180000Z
UID:meeting5148@forsythco.com
DURATION:PT1H0M0S
LOCATION:1201 Sawnee Drive Cumming, GA 30040
SUMMARY:Board of Voter Registrations & Elections - Special Called Meeting 2:00 PM
END:VEVENT
BEGIN:VEVENT
ORGANIZER:forsythpr@forsythco.com
DTSTAMP:20260409T200628Z
ORGANIZER:ForsythCounty:MAILTO:forsythpr@forsythco.com
DTSTART:20260526T130000Z
UID:meeting5149@forsythco.com
DURATION:PT1H0M0S
LOCATION:1201 Sawnee Drive Cumming, GA 30040
SUMMARY:Board of Voter Registrations & Elections - Special Called Meeting 9:00 AM
END:VEVENT
BEGIN:VEVENT
ORGANIZER:forsythpr@forsythco.com
DTSTAMP:20260311T234334Z
ORGANIZER:ForsythCounty:MAILTO:forsythpr@forsythco.com
DTSTART:20260611T140000Z
UID:meeting5126@forsythco.com
DURATION:PT1H0M0S
LOCATION:875 Lanier 400 Parkway Cumming, GA 30040
SUMMARY:Civil Service Board - Regular Meeting 10:00 AM
END:VEVENT
BEGIN:VEVENT
ORGANIZER:forsythpr@forsythco.com
DTSTAMP:20260312T003220Z
ORGANIZER:ForsythCounty:MAILTO:forsythpr@forsythco.com
DTSTART:20260709T140000Z
UID:meeting5127@forsythco.com
DURATION:PT1H0M0S
LOCATION:875 Lanier 400 Parkway Cumming, GA 30040
SUMMARY:Civil Service Board - Regular Meeting 10:00 AM
END:VEVENT
BEGIN:VEVENT
ORGANIZER:forsythpr@forsythco.com
DTSTAMP:20260312T005351Z
ORGANIZER:ForsythCounty:MAILTO:forsythpr@forsythco.com
DTSTART:20260813T140000Z
UID:meeting5128@forsythco.com
DURATION:PT1H0M0S
LOCATION:875 Lanier 400 Parkway Cumming, GA 30040
SUMMARY:Civil Service Board - Regular Meeting 10:00 AM
END:VEVENT
BEGIN:VEVENT
ORGANIZER:forsythpr@forsythco.com
DTSTAMP:20260312T005901Z
ORGANIZER:ForsythCounty:MAILTO:forsythpr@forsythco.com
DTSTART:20260910T140000Z
UID:meeting5129@forsythco.com
DURATION:PT1H0M0S
LOCATION:875 Lanier 400 Parkway Cumming, GA 30040
SUMMARY:Civil Service Board - Regular Meeting 10:00 AM
END:VEVENT
BEGIN:VEVENT
ORGANIZER:forsythpr@forsythco.com
DTSTAMP:20260312T010542Z
ORGANIZER:ForsythCounty:MAILTO:forsythpr@forsythco.com
DTSTART:20261008T140000Z
UID:meeting5130@forsythco.com
DURATION:PT1H0M0S
LOCATION:875 Lanier 400 Parkway Cumming, GA 30040
SUMMARY:Civil Service Board - Regular Meeting 10:00 AM
END:VEVENT
BEGIN:VEVENT
ORGANIZER:forsythpr@forsythco.com
DTSTAMP:20260312T010707Z
ORGANIZER:ForsythCounty:MAILTO:forsythpr@forsythco.com
DTSTART:20261112T150000Z
UID:meeting5131@forsythco.com
DURATION:PT1H0M0S
LOCATION:875 Lanier 400 Parkway Cumming, GA 30040
SUMMARY:Civil Service Board - Regular Meeting 10:00 AM
END:VEVENT
END:VCALENDAR

