BEGIN:VCALENDAR
METHOD:PUBLISH
VERSION:2.0
PRODID:-//Forsyth County Georgia - Meetings//EN
BEGIN:VEVENT
ORGANIZER:forsythpr@forsythco.com
DTSTAMP:20211022T192038Z
ORGANIZER:ForsythCounty:MAILTO:forsythpr@forsythco.com
DTSTART:20211102T220000Z
UID:meeting2119@forsythco.com
DURATION:PT1H0M0S
LOCATION:110 E Main Street Cumming, GA 30005
SUMMARY:Zoning Board of Appeals - Work Session 6:00 PM
END:VEVENT
BEGIN:VEVENT
ORGANIZER:forsythpr@forsythco.com
DTSTAMP:20211022T192121Z
ORGANIZER:ForsythCounty:MAILTO:forsythpr@forsythco.com
DTSTART:20211102T230000Z
UID:meeting2120@forsythco.com
DURATION:PT1H0M0S
LOCATION:110 E Main Street Cumming, GA 30005
SUMMARY:Zoning Board of Appeals - Regular Meeting/Public Hearings 7:00 PM
END:VEVENT
BEGIN:VEVENT
ORGANIZER:forsythpr@forsythco.com
DTSTAMP:20211011T132151Z
ORGANIZER:ForsythCounty:MAILTO:forsythpr@forsythco.com
DTSTART:20211102T230000Z
UID:meeting2115@forsythco.com
DURATION:PT1H0M0S
LOCATION:1201 Sawnee Drive Cumming, GA 30040
SUMMARY:Board of Voter Registrations and Elections - Called Meeting 7:00 PM
END:VEVENT
BEGIN:VEVENT
ORGANIZER:forsythpr@forsythco.com
DTSTAMP:20211022T220913Z
ORGANIZER:ForsythCounty:MAILTO:forsythpr@forsythco.com
DTSTART:20211104T210000Z
UID:meeting2121@forsythco.com
DURATION:PT1H0M0S
LOCATION:110 E Main Street Cumming, GA 30005
SUMMARY:Board of Commissioners - Regular Meeting/Public Hearings 5:00 PM
END:VEVENT
BEGIN:VEVENT
ORGANIZER:forsythpr@forsythco.com
DTSTAMP:20211011T132122Z
ORGANIZER:ForsythCounty:MAILTO:forsythpr@forsythco.com
DTSTART:20211108T140000Z
UID:meeting2114@forsythco.com
DURATION:PT1H0M0S
LOCATION:1201 Sawnee Drive Cumming, GA 30040
SUMMARY:Board of Voter Registrations and Elections - Called Meeting 9:00 AM
END:VEVENT
BEGIN:VEVENT
ORGANIZER:forsythpr@forsythco.com
DTSTAMP:20211011T132223Z
ORGANIZER:ForsythCounty:MAILTO:forsythpr@forsythco.com
DTSTART:20211109T140000Z
UID:meeting2116@forsythco.com
DURATION:PT1H0M0S
LOCATION:1201 Sawnee Drive Cumming, GA 30040
SUMMARY:Board of Voter Registrations and Elections - Regular Meeting 9:00 AM
END:VEVENT
BEGIN:VEVENT
ORGANIZER:forsythpr@forsythco.com
DTSTAMP:20211022T220930Z
ORGANIZER:ForsythCounty:MAILTO:forsythpr@forsythco.com
DTSTART:20211109T190000Z
UID:meeting2122@forsythco.com
DURATION:PT1H0M0S
LOCATION:110 E Main Street Cumming, GA 30005
SUMMARY:Board of Commissioners - Work Session 2:00 PM
END:VEVENT
BEGIN:VEVENT
ORGANIZER:forsythpr@forsythco.com
DTSTAMP:20211022T220946Z
ORGANIZER:ForsythCounty:MAILTO:forsythpr@forsythco.com
DTSTART:20211118T220000Z
UID:meeting2123@forsythco.com
DURATION:PT1H0M0S
LOCATION:110 E Main Street Cumming, GA 30005
SUMMARY:Board of Commissioners - Regular Meeting/Public Hearings 5:00 PM
END:VEVENT
BEGIN:VEVENT
ORGANIZER:forsythpr@forsythco.com
DTSTAMP:20211022T221006Z
ORGANIZER:ForsythCounty:MAILTO:forsythpr@forsythco.com
DTSTART:20211123T190000Z
UID:meeting2124@forsythco.com
DURATION:PT1H0M0S
LOCATION:110 E Main Street Cumming, GA 30005
SUMMARY:Board of Commissioners - Work Session 2:00 PM
END:VEVENT
END:VCALENDAR

